BEGIN:VCALENDAR
VERSION:2.0
PRODID:-//Department Of Education//1920e077-6193-404b-bb0b-c908666f1ef9
BEGIN:VTIMEZONE
TZID:Australia/Sydney
TZURL:http://tzurl.org/zoneinfo-outlook/Australia/Sydney
X-LIC-LOCATION:Australia/Sydney
BEGIN:STANDARD
TZOFFSETFROM:+1100
TZOFFSETTO:+1000
TZNAME:AEST
DTSTART:19700405T030000
RRULE:FREQ=YEARLY;BYMONTH=4;BYDAY=1SU
END:STANDARD
BEGIN:DAYLIGHT
TZOFFSETFROM:+1000
TZOFFSETTO:+1100
TZNAME:AEDT
DTSTART:19701004T020000
RRULE:FREQ=YEARLY;BYMONTH=10;BYDAY=1SU
END:DAYLIGHT
END:VTIMEZONE
CALSCALE:GREGORIAN
X-WR-TIMEZONE:Australia/Sydney
BEGIN:VEVENT
DTSTART;TZID=Australia/Sydney:20170530T090000
DTEND;TZID=Australia/Sydney:20170530T100000
DTSTAMP:20170530T090000Z
UID:dd954491-a55e-488f-b281-6996b139f4a0
LOCATION:
SUMMARY;LANGUAGE=en-us:Whole School Academic Assembly
SEQUENCE:0
DESCRIPTION:Whole School Academic Assembly
END:VEVENT
TRANSP:TRANSPARENT
END:VCALENDAR
