BEGIN:VCALENDAR
VERSION:2.0
PRODID:-//Department Of Education//fa69c713-4192-482b-b916-47b07f71a1ed
BEGIN:VTIMEZONE
TZID:Australia/Sydney
TZURL:http://tzurl.org/zoneinfo-outlook/Australia/Sydney
X-LIC-LOCATION:Australia/Sydney
BEGIN:STANDARD
TZOFFSETFROM:+1100
TZOFFSETTO:+1000
TZNAME:AEST
DTSTART:19700405T030000
RRULE:FREQ=YEARLY;BYMONTH=4;BYDAY=1SU
END:STANDARD
BEGIN:DAYLIGHT
TZOFFSETFROM:+1000
TZOFFSETTO:+1100
TZNAME:AEDT
DTSTART:19701004T020000
RRULE:FREQ=YEARLY;BYMONTH=10;BYDAY=1SU
END:DAYLIGHT
END:VTIMEZONE
CALSCALE:GREGORIAN
X-WR-TIMEZONE:Australia/Sydney
BEGIN:VEVENT
DTSTART;TZID=Australia/Sydney:20170526T090000
DTEND;TZID=Australia/Sydney:20170526T150000
DTSTAMP:20170526T090000Z
UID:fbe70c0f-8949-4e32-9454-0367b4dcb5e9
LOCATION:
SUMMARY;LANGUAGE=en-us:TAFE Motors and Metals
SEQUENCE:0
DESCRIPTION:Youth Program
END:VEVENT
TRANSP:TRANSPARENT
END:VCALENDAR
