BEGIN:VCALENDAR
VERSION:2.0
PRODID:-//Department Of Education//cd27168d-5529-4472-abba-dc4def0178a4
BEGIN:VTIMEZONE
TZID:Australia/Sydney
TZURL:http://tzurl.org/zoneinfo-outlook/Australia/Sydney
X-LIC-LOCATION:Australia/Sydney
BEGIN:STANDARD
TZOFFSETFROM:+1100
TZOFFSETTO:+1000
TZNAME:AEST
DTSTART:19700405T030000
RRULE:FREQ=YEARLY;BYMONTH=4;BYDAY=1SU
END:STANDARD
BEGIN:DAYLIGHT
TZOFFSETFROM:+1000
TZOFFSETTO:+1100
TZNAME:AEDT
DTSTART:19701004T020000
RRULE:FREQ=YEARLY;BYMONTH=10;BYDAY=1SU
END:DAYLIGHT
END:VTIMEZONE
CALSCALE:GREGORIAN
X-WR-TIMEZONE:Australia/Sydney
BEGIN:VEVENT
DTSTART;VALUE=DATE:20170518
DTEND;VALUE=DATE:20170519
DTSTAMP:20170518T000000Z
UID:92721d14-a993-4f87-b329-62c85269de79
LOCATION:
SUMMARY;LANGUAGE=en-us:Stage 3 Print Making
SEQUENCE:0
DESCRIPTION:Wagga Art Gallery
END:VEVENT
TRANSP:TRANSPARENT
END:VCALENDAR
