BEGIN:VCALENDAR
VERSION:2.0
PRODID:-//Department Of Education//c6e75a3a-3540-4aca-83be-e106c3f5905a
BEGIN:VTIMEZONE
TZID:Australia/Sydney
TZURL:http://tzurl.org/zoneinfo-outlook/Australia/Sydney
X-LIC-LOCATION:Australia/Sydney
BEGIN:STANDARD
TZOFFSETFROM:+1100
TZOFFSETTO:+1000
TZNAME:AEST
DTSTART:19700405T030000
RRULE:FREQ=YEARLY;BYMONTH=4;BYDAY=1SU
END:STANDARD
BEGIN:DAYLIGHT
TZOFFSETFROM:+1000
TZOFFSETTO:+1100
TZNAME:AEDT
DTSTART:19701004T020000
RRULE:FREQ=YEARLY;BYMONTH=10;BYDAY=1SU
END:DAYLIGHT
END:VTIMEZONE
CALSCALE:GREGORIAN
X-WR-TIMEZONE:Australia/Sydney
BEGIN:VEVENT
DTSTART;TZID=Australia/Sydney:20170512T090000
DTEND;TZID=Australia/Sydney:20170512T150000
DTSTAMP:20170512T090000Z
UID:2caee664-7e65-40ba-a166-e6c679ec9a0b
LOCATION:
SUMMARY;LANGUAGE=en-us:Secondary Zone Cross Country
SEQUENCE:0
DESCRIPTION:Secondary Zone Cross Country
END:VEVENT
TRANSP:TRANSPARENT
END:VCALENDAR
