BEGIN:VCALENDAR
VERSION:2.0
PRODID:-//Department Of Education//b4b6b3e5-0f51-4fec-b321-57b7454aa471
BEGIN:VTIMEZONE
TZID:Australia/Sydney
TZURL:http://tzurl.org/zoneinfo-outlook/Australia/Sydney
X-LIC-LOCATION:Australia/Sydney
BEGIN:STANDARD
TZOFFSETFROM:+1100
TZOFFSETTO:+1000
TZNAME:AEST
DTSTART:19700405T030000
RRULE:FREQ=YEARLY;BYMONTH=4;BYDAY=1SU
END:STANDARD
BEGIN:DAYLIGHT
TZOFFSETFROM:+1000
TZOFFSETTO:+1100
TZNAME:AEDT
DTSTART:19701004T020000
RRULE:FREQ=YEARLY;BYMONTH=10;BYDAY=1SU
END:DAYLIGHT
END:VTIMEZONE
CALSCALE:GREGORIAN
X-WR-TIMEZONE:Australia/Sydney
BEGIN:VEVENT
DTSTART;TZID=Australia/Sydney:20170515T090000
DTEND;TZID=Australia/Sydney:20170515T150000
DTSTAMP:20170515T090000Z
UID:ab2b3d25-142b-4da3-9ce5-b03116659b4e
LOCATION:
SUMMARY;LANGUAGE=en-us:Riverina Primary Cross Country
SEQUENCE:0
DESCRIPTION:Gundagai
END:VEVENT
TRANSP:TRANSPARENT
END:VCALENDAR
