BEGIN:VCALENDAR
VERSION:2.0
PRODID:-//Department Of Education//248b56f6-d9ea-48a8-b00d-ce797b9da4c9
BEGIN:VTIMEZONE
TZID:Australia/Sydney
TZURL:http://tzurl.org/zoneinfo-outlook/Australia/Sydney
X-LIC-LOCATION:Australia/Sydney
BEGIN:STANDARD
TZOFFSETFROM:+1100
TZOFFSETTO:+1000
TZNAME:AEST
DTSTART:19700405T030000
RRULE:FREQ=YEARLY;BYMONTH=4;BYDAY=1SU
END:STANDARD
BEGIN:DAYLIGHT
TZOFFSETFROM:+1000
TZOFFSETTO:+1100
TZNAME:AEDT
DTSTART:19701004T020000
RRULE:FREQ=YEARLY;BYMONTH=10;BYDAY=1SU
END:DAYLIGHT
END:VTIMEZONE
CALSCALE:GREGORIAN
X-WR-TIMEZONE:Australia/Sydney
BEGIN:VEVENT
DTSTART;VALUE=DATE:20170526
DTEND;VALUE=DATE:20170527
DTSTAMP:20170526T000000Z
UID:9c197df3-c1bb-426e-9b6b-9064bd608602
LOCATION:
SUMMARY;LANGUAGE=en-us:Riverina Lawn Bowls Trials
SEQUENCE:0
DESCRIPTION:Riverina Lawn Bowls Trials
END:VEVENT
TRANSP:TRANSPARENT
END:VCALENDAR
