BEGIN:VCALENDAR
VERSION:2.0
PRODID:-//Department Of Education//9ed83209-8686-413f-8633-1c903a03ae93
BEGIN:VTIMEZONE
TZID:Australia/Sydney
TZURL:http://tzurl.org/zoneinfo-outlook/Australia/Sydney
X-LIC-LOCATION:Australia/Sydney
BEGIN:STANDARD
TZOFFSETFROM:+1100
TZOFFSETTO:+1000
TZNAME:AEST
DTSTART:19700405T030000
RRULE:FREQ=YEARLY;BYMONTH=4;BYDAY=1SU
END:STANDARD
BEGIN:DAYLIGHT
TZOFFSETFROM:+1000
TZOFFSETTO:+1100
TZNAME:AEDT
DTSTART:19701004T020000
RRULE:FREQ=YEARLY;BYMONTH=10;BYDAY=1SU
END:DAYLIGHT
END:VTIMEZONE
CALSCALE:GREGORIAN
X-WR-TIMEZONE:Australia/Sydney
BEGIN:VEVENT
DTSTART;TZID=Australia/Sydney:20170517T140000
DTEND;TZID=Australia/Sydney:20170517T141500
DTSTAMP:20170517T140000Z
UID:ea007999-6a8a-40cc-aeab-b3b14eee2f76
LOCATION:
SUMMARY;LANGUAGE=en-us:RFS Fire Safety Program
SEQUENCE:0
DESCRIPTION:K-6
END:VEVENT
TRANSP:TRANSPARENT
END:VCALENDAR
