BEGIN:VCALENDAR
VERSION:2.0
PRODID:-//Department Of Education//ae7e2466-473b-4e5b-b756-9ac0c22bcdb4
BEGIN:VTIMEZONE
TZID:Australia/Sydney
TZURL:http://tzurl.org/zoneinfo-outlook/Australia/Sydney
X-LIC-LOCATION:Australia/Sydney
BEGIN:STANDARD
TZOFFSETFROM:+1100
TZOFFSETTO:+1000
TZNAME:AEST
DTSTART:19700405T030000
RRULE:FREQ=YEARLY;BYMONTH=4;BYDAY=1SU
END:STANDARD
BEGIN:DAYLIGHT
TZOFFSETFROM:+1000
TZOFFSETTO:+1100
TZNAME:AEDT
DTSTART:19701004T020000
RRULE:FREQ=YEARLY;BYMONTH=10;BYDAY=1SU
END:DAYLIGHT
END:VTIMEZONE
CALSCALE:GREGORIAN
X-WR-TIMEZONE:Australia/Sydney
BEGIN:VEVENT
DTSTART;TZID=Australia/Sydney:20170505T090000
DTEND;TZID=Australia/Sydney:20170505T150000
DTSTAMP:20170505T090000Z
UID:001699c1-ac81-4bc2-9f55-f52ae1c51a21
LOCATION:
SUMMARY;LANGUAGE=en-us:PSSA District Cross Country
SEQUENCE:0
DESCRIPTION:In Marrar
END:VEVENT
TRANSP:TRANSPARENT
END:VCALENDAR
