BEGIN:VCALENDAR
VERSION:2.0
PRODID:-//Department Of Education//0c432087-a555-4bab-9f63-bd269713d183
BEGIN:VTIMEZONE
TZID:Australia/Sydney
TZURL:http://tzurl.org/zoneinfo-outlook/Australia/Sydney
X-LIC-LOCATION:Australia/Sydney
BEGIN:STANDARD
TZOFFSETFROM:+1100
TZOFFSETTO:+1000
TZNAME:AEST
DTSTART:19700405T030000
RRULE:FREQ=YEARLY;BYMONTH=4;BYDAY=1SU
END:STANDARD
BEGIN:DAYLIGHT
TZOFFSETFROM:+1000
TZOFFSETTO:+1100
TZNAME:AEDT
DTSTART:19701004T020000
RRULE:FREQ=YEARLY;BYMONTH=10;BYDAY=1SU
END:DAYLIGHT
END:VTIMEZONE
CALSCALE:GREGORIAN
X-WR-TIMEZONE:Australia/Sydney
BEGIN:VEVENT
DTSTART;TZID=Australia/Sydney:20170509T090000
DTEND;TZID=Australia/Sydney:20170509T150000
DTSTAMP:20170509T090000Z
UID:fa913b0e-b214-48e0-a617-a6e7576ccca1
LOCATION:
SUMMARY;LANGUAGE=en-us:Opens Rugby League Leeton
SEQUENCE:0
DESCRIPTION:Opens Rugby League Leeton
END:VEVENT
TRANSP:TRANSPARENT
END:VCALENDAR
