BEGIN:VCALENDAR
VERSION:2.0
PRODID:-//Department Of Education//75e09c1d-c7ff-4e09-8948-ab231f2be78b
BEGIN:VTIMEZONE
TZID:Australia/Sydney
TZURL:http://tzurl.org/zoneinfo-outlook/Australia/Sydney
X-LIC-LOCATION:Australia/Sydney
BEGIN:STANDARD
TZOFFSETFROM:+1100
TZOFFSETTO:+1000
TZNAME:AEST
DTSTART:19700405T030000
RRULE:FREQ=YEARLY;BYMONTH=4;BYDAY=1SU
END:STANDARD
BEGIN:DAYLIGHT
TZOFFSETFROM:+1000
TZOFFSETTO:+1100
TZNAME:AEDT
DTSTART:19701004T020000
RRULE:FREQ=YEARLY;BYMONTH=10;BYDAY=1SU
END:DAYLIGHT
END:VTIMEZONE
CALSCALE:GREGORIAN
X-WR-TIMEZONE:Australia/Sydney
BEGIN:VEVENT
DTSTART;TZID=Australia/Sydney:20170512T090000
DTEND;TZID=Australia/Sydney:20170512T110000
DTSTAMP:20170512T090000Z
UID:1c908916-e076-4d9c-b3b6-6a10fcf0563f
LOCATION:
SUMMARY;LANGUAGE=en-us:Mothers Day Gift Stall
SEQUENCE:0
DESCRIPTION:Mothers Day Gift Stall
END:VEVENT
TRANSP:TRANSPARENT
END:VCALENDAR
