BEGIN:VCALENDAR
VERSION:2.0
PRODID:-//Department Of Education//2b12fc1f-bbc9-4518-904a-b516dcf64533
BEGIN:VTIMEZONE
TZID:Australia/Sydney
TZURL:http://tzurl.org/zoneinfo-outlook/Australia/Sydney
X-LIC-LOCATION:Australia/Sydney
BEGIN:STANDARD
TZOFFSETFROM:+1100
TZOFFSETTO:+1000
TZNAME:AEST
DTSTART:19700405T030000
RRULE:FREQ=YEARLY;BYMONTH=4;BYDAY=1SU
END:STANDARD
BEGIN:DAYLIGHT
TZOFFSETFROM:+1000
TZOFFSETTO:+1100
TZNAME:AEDT
DTSTART:19701004T020000
RRULE:FREQ=YEARLY;BYMONTH=10;BYDAY=1SU
END:DAYLIGHT
END:VTIMEZONE
CALSCALE:GREGORIAN
X-WR-TIMEZONE:Australia/Sydney
BEGIN:VEVENT
DTSTART;VALUE=DATE:20170529
DTEND;VALUE=DATE:20170530
DTSTAMP:20170529T000000Z
UID:df9c1b46-eb23-472c-aa36-59b61ac0503b
LOCATION:
SUMMARY;LANGUAGE=en-us:ATHLETICS CARNIVAL
SEQUENCE:0
DESCRIPTION:ATHLETICS CARNIVAL
END:VEVENT
TRANSP:TRANSPARENT
END:VCALENDAR
