BEGIN:VCALENDAR
VERSION:2.0
PRODID:-//Department Of Education//762c904e-18d2-4b38-a86a-b99815da550b
BEGIN:VTIMEZONE
TZID:Australia/Sydney
TZURL:http://tzurl.org/zoneinfo-outlook/Australia/Sydney
X-LIC-LOCATION:Australia/Sydney
BEGIN:STANDARD
TZOFFSETFROM:+1100
TZOFFSETTO:+1000
TZNAME:AEST
DTSTART:19700405T030000
RRULE:FREQ=YEARLY;BYMONTH=4;BYDAY=1SU
END:STANDARD
BEGIN:DAYLIGHT
TZOFFSETFROM:+1000
TZOFFSETTO:+1100
TZNAME:AEDT
DTSTART:19701004T020000
RRULE:FREQ=YEARLY;BYMONTH=10;BYDAY=1SU
END:DAYLIGHT
END:VTIMEZONE
CALSCALE:GREGORIAN
X-WR-TIMEZONE:Australia/Sydney
BEGIN:VEVENT
DTSTART;VALUE=DATE:20170309
DTEND;VALUE=DATE:20170310
DTSTAMP:20170309T000000Z
UID:6268d612-8aec-49ba-a7bb-7548a79f1523
LOCATION:
SUMMARY;LANGUAGE=en-us:PSSA Coolamon/Ardlethan Netball
SEQUENCE:0
DESCRIPTION:Trials
END:VEVENT
TRANSP:TRANSPARENT
END:VCALENDAR
