BEGIN:VCALENDAR
VERSION:2.0
PRODID:-//Department Of Education//4bd111a0-42a3-4ab4-84b5-40b4b94818d6
BEGIN:VTIMEZONE
TZID:Australia/Sydney
TZURL:http://tzurl.org/zoneinfo-outlook/Australia/Sydney
X-LIC-LOCATION:Australia/Sydney
BEGIN:STANDARD
TZOFFSETFROM:+1100
TZOFFSETTO:+1000
TZNAME:AEST
DTSTART:19700405T030000
RRULE:FREQ=YEARLY;BYMONTH=4;BYDAY=1SU
END:STANDARD
BEGIN:DAYLIGHT
TZOFFSETFROM:+1000
TZOFFSETTO:+1100
TZNAME:AEDT
DTSTART:19701004T020000
RRULE:FREQ=YEARLY;BYMONTH=10;BYDAY=1SU
END:DAYLIGHT
END:VTIMEZONE
CALSCALE:GREGORIAN
X-WR-TIMEZONE:Australia/Sydney
BEGIN:VEVENT
DTSTART;TZID=Australia/Sydney:20170308T183000
DTEND;TZID=Australia/Sydney:20170308T193000
DTSTAMP:20170308T183000Z
UID:3d25f915-3d2d-48c8-b297-df03126ab496
LOCATION:
SUMMARY;LANGUAGE=en-us:P&C AGM
SEQUENCE:0
DESCRIPTION:P&C AGM
END:VEVENT
TRANSP:TRANSPARENT
END:VCALENDAR
