BEGIN:VCALENDAR
VERSION:2.0
PRODID:-//Department Of Education//eb6f55ca-cdc5-4b6d-b100-0b0e566345c9
BEGIN:VTIMEZONE
TZID:Australia/Sydney
TZURL:http://tzurl.org/zoneinfo-outlook/Australia/Sydney
X-LIC-LOCATION:Australia/Sydney
BEGIN:STANDARD
TZOFFSETFROM:+1100
TZOFFSETTO:+1000
TZNAME:AEST
DTSTART:19700405T030000
RRULE:FREQ=YEARLY;BYMONTH=4;BYDAY=1SU
END:STANDARD
BEGIN:DAYLIGHT
TZOFFSETFROM:+1000
TZOFFSETTO:+1100
TZNAME:AEDT
DTSTART:19701004T020000
RRULE:FREQ=YEARLY;BYMONTH=10;BYDAY=1SU
END:DAYLIGHT
END:VTIMEZONE
CALSCALE:GREGORIAN
X-WR-TIMEZONE:Australia/Sydney
BEGIN:VEVENT
DTSTART;TZID=Australia/Sydney:20170321T153000
DTEND;TZID=Australia/Sydney:20170321T183000
DTSTAMP:20170321T153000Z
UID:555b644a-f708-47f8-9833-04dd2f481484
LOCATION:
SUMMARY;LANGUAGE=en-us:7-12 Parent Teacher Interviews
SEQUENCE:0
DESCRIPTION:7-12 Parent Teacher Interviews
END:VEVENT
TRANSP:TRANSPARENT
END:VCALENDAR
