BEGIN:VCALENDAR
VERSION:2.0
PRODID:-//Department Of Education//a283f192-caaf-4b9a-aa1e-54adae8e0187
BEGIN:VTIMEZONE
TZID:Australia/Sydney
TZURL:http://tzurl.org/zoneinfo-outlook/Australia/Sydney
X-LIC-LOCATION:Australia/Sydney
BEGIN:STANDARD
TZOFFSETFROM:+1100
TZOFFSETTO:+1000
TZNAME:AEST
DTSTART:19700405T030000
RRULE:FREQ=YEARLY;BYMONTH=4;BYDAY=1SU
END:STANDARD
BEGIN:DAYLIGHT
TZOFFSETFROM:+1000
TZOFFSETTO:+1100
TZNAME:AEDT
DTSTART:19701004T020000
RRULE:FREQ=YEARLY;BYMONTH=10;BYDAY=1SU
END:DAYLIGHT
END:VTIMEZONE
CALSCALE:GREGORIAN
X-WR-TIMEZONE:Australia/Sydney
BEGIN:VEVENT
DTSTART;TZID=Australia/Sydney:20171130T173000
DTEND;TZID=Australia/Sydney:20171130T203000
DTSTAMP:20171130T173000Z
UID:1c46684d-ba2d-4249-8250-b8462c07b456
LOCATION:
SUMMARY;LANGUAGE=en-us:Year 6 Graduation Dinner
SEQUENCE:0
DESCRIPTION:Coolamon Sport and Recreation Club
END:VEVENT
TRANSP:TRANSPARENT
END:VCALENDAR
