BEGIN:VCALENDAR
VERSION:2.0
PRODID:-//Department Of Education//8ea71737-3a15-4f16-a104-b47d9886f62f
BEGIN:VTIMEZONE
TZID:Australia/Sydney
TZURL:http://tzurl.org/zoneinfo-outlook/Australia/Sydney
X-LIC-LOCATION:Australia/Sydney
BEGIN:STANDARD
TZOFFSETFROM:+1100
TZOFFSETTO:+1000
TZNAME:AEST
DTSTART:19700405T030000
RRULE:FREQ=YEARLY;BYMONTH=4;BYDAY=1SU
END:STANDARD
BEGIN:DAYLIGHT
TZOFFSETFROM:+1000
TZOFFSETTO:+1100
TZNAME:AEDT
DTSTART:19701004T020000
RRULE:FREQ=YEARLY;BYMONTH=10;BYDAY=1SU
END:DAYLIGHT
END:VTIMEZONE
CALSCALE:GREGORIAN
X-WR-TIMEZONE:Australia/Sydney
BEGIN:VEVENT
DTSTART;TZID=Australia/Sydney:20171102T101500
DTEND;TZID=Australia/Sydney:20171102T111500
DTSTAMP:20171102T101500Z
UID:37ac6747-520d-4442-b200-f79e74f233a6
LOCATION:
SUMMARY;LANGUAGE=en-us:Year 5 Excursion
SEQUENCE:0
DESCRIPTION:Year 5 students to go and read to Kinder 2018 students at Day Care.
END:VEVENT
TRANSP:TRANSPARENT
END:VCALENDAR
